BEGIN:VCALENDAR
VERSION:2.0
PRODID:-//Högforsin ruukki - ECPv6.15.18//NONSGML v1.0//EN
CALSCALE:GREGORIAN
METHOD:PUBLISH
X-ORIGINAL-URL:https://xn--hgforsinruukki-vpb.fi
X-WR-CALDESC:Tapahtumat Högforsin ruukki
REFRESH-INTERVAL;VALUE=DURATION:PT1H
X-Robots-Tag:noindex
X-PUBLISHED-TTL:PT1H
BEGIN:VTIMEZONE
TZID:Europe/Helsinki
BEGIN:DAYLIGHT
TZOFFSETFROM:+0200
TZOFFSETTO:+0300
TZNAME:EEST
DTSTART:20250330T010000
END:DAYLIGHT
BEGIN:STANDARD
TZOFFSETFROM:+0300
TZOFFSETTO:+0200
TZNAME:EET
DTSTART:20251026T010000
END:STANDARD
BEGIN:DAYLIGHT
TZOFFSETFROM:+0200
TZOFFSETTO:+0300
TZNAME:EEST
DTSTART:20260329T010000
END:DAYLIGHT
BEGIN:STANDARD
TZOFFSETFROM:+0300
TZOFFSETTO:+0200
TZNAME:EET
DTSTART:20261025T010000
END:STANDARD
BEGIN:DAYLIGHT
TZOFFSETFROM:+0200
TZOFFSETTO:+0300
TZNAME:EEST
DTSTART:20270328T010000
END:DAYLIGHT
BEGIN:STANDARD
TZOFFSETFROM:+0300
TZOFFSETTO:+0200
TZNAME:EET
DTSTART:20271031T010000
END:STANDARD
END:VTIMEZONE
BEGIN:VEVENT
DTSTART;TZID=Europe/Helsinki:20260502T120000
DTEND;TZID=Europe/Helsinki:20260531T160000
DTSTAMP:20260421T191729
CREATED:20260415T041828Z
LAST-MODIFIED:20260415T041828Z
UID:10482-1777723200-1780243200@xn--hgforsinruukki-vpb.fi
SUMMARY:AldaArt taidenäyttely MIELIKUVITUKSIA
DESCRIPTION:AldaArtin maalauksia mielikuvitelluista maisemista\, joille katsoja voi itse mielikuvitella nimen\, sijainnin ja tarinan. \nNäyttely avoinna Havun Pihkassa -galleriatilassa \nTo-Pe klo 12-18 \nLa-Su klo 12-16
URL:https://xn--hgforsinruukki-vpb.fi/tapahtumat/aldaart-taidenayttely-mielikuvituksia/
LOCATION:Pihkassa -galleriatila\, Valurinkatu 2 C\, Karkkila\, 03600\, Finland
ATTACH;FMTTYPE=image/png:https://xn--hgforsinruukki-vpb.fi/wp-content/uploads/2026/04/Nayttokuva-2026-04-14-171104.png
END:VEVENT
END:VCALENDAR